BEGIN:VCALENDAR
VERSION:2.0
PRODID:-//Affia Affia Family Foundation Website - ECPv6.15.20//NONSGML v1.0//EN
CALSCALE:GREGORIAN
METHOD:PUBLISH
X-WR-CALNAME:Affia Affia Family Foundation Website
X-ORIGINAL-URL:https://affiaaffiafamilyfoundation.org
X-WR-CALDESC:Events for Affia Affia Family Foundation Website
REFRESH-INTERVAL;VALUE=DURATION:PT1H
X-Robots-Tag:noindex
X-PUBLISHED-TTL:PT1H
BEGIN:VTIMEZONE
TZID:UTC
BEGIN:STANDARD
TZOFFSETFROM:+0000
TZOFFSETTO:+0000
TZNAME:UTC
DTSTART:20230101T000000
END:STANDARD
END:VTIMEZONE
BEGIN:VTIMEZONE
TZID:Africa/Lagos
BEGIN:STANDARD
TZOFFSETFROM:+0100
TZOFFSETTO:+0100
TZNAME:WAT
DTSTART:20220101T000000
END:STANDARD
END:VTIMEZONE
BEGIN:VEVENT
DTSTART;TZID=UTC:20241220T100000
DTEND;TZID=UTC:20241220T170000
DTSTAMP:20260423T162256
CREATED:20241205T084618Z
LAST-MODIFIED:20241205T084618Z
UID:917-1734688800-1734714000@affiaaffiafamilyfoundation.org
SUMMARY:Visit to Obot Inwang In Okobo Local Government Area Akwa Ibom State Nigeria
DESCRIPTION:
URL:https://affiaaffiafamilyfoundation.org/event/visit-to-obot-inwang-in-okobo-local-government-area-akwa-ibom-state-nigeria/
END:VEVENT
BEGIN:VEVENT
DTSTART;TZID=UTC:20240516T080000
DTEND;TZID=UTC:20240516T160000
DTSTAMP:20260423T162256
CREATED:20240403T013455Z
LAST-MODIFIED:20240403T013455Z
UID:723-1715846400-1715875200@affiaaffiafamilyfoundation.org
SUMMARY:International Boys Day 2024
DESCRIPTION:To mark International Boys Day\,2024\, we will be having an outreach event at Secondary Commercial School\, Iwawa Usung Eket\, Ibesikpo Asutan LGA Akwa Ibom State\, Nigeria. Our focus will be on the boys and their wellbeing. These include things they need in order to be happy\, healthy and valued in their family and community. Agenda will include the following: \n1. Personal hygiene\n2. Sex abuse\n3. Masturbation\n4. Drug abuse\n5. Legal Rights\n6. Physical and Mental Health disorder. \nAt the end of the event\, we intend to give out daily hygiene supplies such as a pair of boxers pant\, deodorant\, toothpaste\, toothbrush etc. We need your support to achieve this goal and to make this event memorable for the students.  \nThank you\,\nNse Affia\nPresident AAFF
URL:https://affiaaffiafamilyfoundation.org/event/international-boys-day-2024/
END:VEVENT
BEGIN:VEVENT
DTSTART;TZID=Africa/Lagos:20231223T120000
DTEND;TZID=Africa/Lagos:20231223T170000
DTSTAMP:20260423T162256
CREATED:20240306T084947Z
LAST-MODIFIED:20240306T084947Z
UID:572-1703332800-1703350800@affiaaffiafamilyfoundation.org
SUMMARY:Affia Affia Family Foundation Launching
DESCRIPTION:You are cordially invited to the official launching of Affia Affia Family foundation(AAFF) which will take place on 23rd of December\,2023 at 12:00 noon.
URL:https://affiaaffiafamilyfoundation.org/event/affia-affia-family-foundation-launching/
LOCATION:Bezaleel Hall\, AKS House Of Assembly Road\, Uyo\, Akwa Ibom\, Nigeria
ATTACH;FMTTYPE=image/jpeg:https://affiaaffiafamilyfoundation.org/wp-content/uploads/2024/03/2023.AAF_.JPG7_-scaled.jpg
ORGANIZER;CN="Elder & Deaconess Affia":MAILTO:Affiaaffiafamilyfoundation@gmail.com
END:VEVENT
END:VCALENDAR